BEGIN:VCALENDAR
VERSION:2.0
PRODID:-//hacksw/handcal//NONSGML v1.0//EN
BEGIN:VEVENT
SUMMARY:COURS FAMILLE EXCEPTIONNEL LE MATIN
UID:99834054-1442-4505-be5d-560ea2193817
DTSTART:20260418T080000Z
DTEND:20260418T093000Z
LOCATION:Localisation   
CATEGORIES:Sportif
STATUS:
DESCRIPTION:<p><span style="font-size:22px;">ATTENTION COURS FAMILLE
 SAMEDI 18 AVRIL DE 10H00  A 11H30</span></p>
 
 <p> </p>
URL;VALUE=URI:https://judovillemur.sportsregions.fr/evenements/2026/04/18/cours-famille-exceptionnel-le-matin-2440986
END:VEVENT
END:VCALENDAR
